BEGIN:VCALENDAR
VERSION:2.0
PRODID:-//Southern Indiana Rifle &amp; Pistol Club - ECPv6.15.20//NONSGML v1.0//EN
CALSCALE:GREGORIAN
METHOD:PUBLISH
X-ORIGINAL-URL:https://sirapc.com
X-WR-CALDESC:Events for Southern Indiana Rifle &amp; Pistol Club
REFRESH-INTERVAL;VALUE=DURATION:PT1H
X-Robots-Tag:noindex
X-PUBLISHED-TTL:PT1H
BEGIN:VTIMEZONE
TZID:America/New_York
BEGIN:DAYLIGHT
TZOFFSETFROM:-0500
TZOFFSETTO:-0400
TZNAME:EDT
DTSTART:20250309T070000
END:DAYLIGHT
BEGIN:STANDARD
TZOFFSETFROM:-0400
TZOFFSETTO:-0500
TZNAME:EST
DTSTART:20251102T060000
END:STANDARD
BEGIN:DAYLIGHT
TZOFFSETFROM:-0500
TZOFFSETTO:-0400
TZNAME:EDT
DTSTART:20260308T070000
END:DAYLIGHT
BEGIN:STANDARD
TZOFFSETFROM:-0400
TZOFFSETTO:-0500
TZNAME:EST
DTSTART:20261101T060000
END:STANDARD
BEGIN:DAYLIGHT
TZOFFSETFROM:-0500
TZOFFSETTO:-0400
TZNAME:EDT
DTSTART:20270314T070000
END:DAYLIGHT
BEGIN:STANDARD
TZOFFSETFROM:-0400
TZOFFSETTO:-0500
TZNAME:EST
DTSTART:20271107T060000
END:STANDARD
END:VTIMEZONE
BEGIN:VEVENT
DTSTART;TZID=America/New_York:20260621T080000
DTEND;TZID=America/New_York:20260621T170000
DTSTAMP:20260424T040729
CREATED:20260418T201051Z
LAST-MODIFIED:20260418T201051Z
UID:733-1782028800-1782061200@sirapc.com
SUMMARY:Smallbore Match
DESCRIPTION:
URL:https://sirapc.com/calendar/smallbore-match-3/
LOCATION:SIRPC Outdoor Range\, 17908 State Road 60\, Borden\, IN\, 47106\, United States
ORGANIZER;CN="Ted Carr":MAILTO:maccarr13@yahoo.com
END:VEVENT
END:VCALENDAR