BEGIN:VCALENDAR
VERSION:2.0
PRODID:-//Southern Indiana Rifle &amp; Pistol Club - ECPv6.15.20//NONSGML v1.0//EN
CALSCALE:GREGORIAN
METHOD:PUBLISH
X-WR-CALNAME:Southern Indiana Rifle &amp; Pistol Club
X-ORIGINAL-URL:https://sirapc.com
X-WR-CALDESC:Events for Southern Indiana Rifle &amp; Pistol Club
REFRESH-INTERVAL;VALUE=DURATION:PT1H
X-Robots-Tag:noindex
X-PUBLISHED-TTL:PT1H
BEGIN:VTIMEZONE
TZID:America/New_York
BEGIN:DAYLIGHT
TZOFFSETFROM:-0500
TZOFFSETTO:-0400
TZNAME:EDT
DTSTART:20250309T070000
END:DAYLIGHT
BEGIN:STANDARD
TZOFFSETFROM:-0400
TZOFFSETTO:-0500
TZNAME:EST
DTSTART:20251102T060000
END:STANDARD
BEGIN:DAYLIGHT
TZOFFSETFROM:-0500
TZOFFSETTO:-0400
TZNAME:EDT
DTSTART:20260308T070000
END:DAYLIGHT
BEGIN:STANDARD
TZOFFSETFROM:-0400
TZOFFSETTO:-0500
TZNAME:EST
DTSTART:20261101T060000
END:STANDARD
BEGIN:DAYLIGHT
TZOFFSETFROM:-0500
TZOFFSETTO:-0400
TZNAME:EDT
DTSTART:20270314T070000
END:DAYLIGHT
BEGIN:STANDARD
TZOFFSETFROM:-0400
TZOFFSETTO:-0500
TZNAME:EST
DTSTART:20271107T060000
END:STANDARD
END:VTIMEZONE
BEGIN:VEVENT
DTSTART;TZID=America/New_York:20260701T123000
DTEND;TZID=America/New_York:20260701T200000
DTSTAMP:20260422T085956
CREATED:20260206T155228Z
LAST-MODIFIED:20260418T202419Z
UID:96-1782909000-1782936000@sirapc.com
SUMMARY:500 Yard Rifle Practice
DESCRIPTION:
URL:https://sirapc.com/calendar/500-yard-rifle-practice-13/
LOCATION:SIRPC Outdoor Range\, 17908 State Road 60\, Borden\, IN\, 47106\, United States
ORGANIZER;CN="Dwayne Draggoo":MAILTO:DwayneDraggoo@yahoo.com
END:VEVENT
BEGIN:VEVENT
DTSTART;TZID=America/New_York:20260701T190000
DTEND;TZID=America/New_York:20260701T210000
DTSTAMP:20260422T085956
CREATED:20260206T162733Z
LAST-MODIFIED:20260206T162733Z
UID:149-1782932400-1782939600@sirapc.com
SUMMARY:Monthly Club Meeting
DESCRIPTION:
URL:https://sirapc.com/calendar/monthly-club-meeting-5/
LOCATION:SIRPC Indoor Range\, 5950 Gun Club Rd NE\, Georgetown\, Indiana\, 47122\, United States
ORGANIZER;CN="Donnie Abbott":MAILTO:dla31357@gmail.com
END:VEVENT
BEGIN:VEVENT
DTSTART;TZID=America/New_York:20260704T080000
DTEND;TZID=America/New_York:20260704T170000
DTSTAMP:20260422T085956
CREATED:20260206T164811Z
LAST-MODIFIED:20260206T164811Z
UID:199-1783152000-1783184400@sirapc.com
SUMMARY:F-Class Rifle Match
DESCRIPTION:
URL:https://sirapc.com/calendar/f-class-rifle-match-4/
LOCATION:SIRPC Outdoor Range\, 17908 State Road 60\, Borden\, IN\, 47106\, United States
ORGANIZER;CN="Dwayne Draggoo":MAILTO:DwayneDraggoo@yahoo.com
END:VEVENT
BEGIN:VEVENT
DTSTART;TZID=America/New_York:20260708T123000
DTEND;TZID=America/New_York:20260708T200000
DTSTAMP:20260422T085956
CREATED:20260206T155302Z
LAST-MODIFIED:20260418T202355Z
UID:98-1783513800-1783540800@sirapc.com
SUMMARY:500 Yard Rifle Practice
DESCRIPTION:
URL:https://sirapc.com/calendar/500-yard-rifle-practice-14/
LOCATION:SIRPC Outdoor Range\, 17908 State Road 60\, Borden\, IN\, 47106\, United States
ORGANIZER;CN="Dwayne Draggoo":MAILTO:DwayneDraggoo@yahoo.com
END:VEVENT
BEGIN:VEVENT
DTSTART;TZID=America/New_York:20260711T080000
DTEND;TZID=America/New_York:20260711T170000
DTSTAMP:20260422T085956
CREATED:20260206T164844Z
LAST-MODIFIED:20260206T164844Z
UID:201-1783756800-1783789200@sirapc.com
SUMMARY:CMP Highpower Rifle Match
DESCRIPTION:
URL:https://sirapc.com/calendar/cmp-highpower-rifle-match-4/
LOCATION:SIRPC Outdoor Range\, 17908 State Road 60\, Borden\, IN\, 47106\, United States
ORGANIZER;CN="George Eberhardt":MAILTO:ebbie5313@gmail.com
END:VEVENT
BEGIN:VEVENT
DTSTART;TZID=America/New_York:20260715T123000
DTEND;TZID=America/New_York:20260715T200000
DTSTAMP:20260422T085956
CREATED:20260206T155351Z
LAST-MODIFIED:20260418T202334Z
UID:100-1784118600-1784145600@sirapc.com
SUMMARY:500 Yard Rifle Practice
DESCRIPTION:
URL:https://sirapc.com/calendar/500-yard-rifle-practice-15/
LOCATION:SIRPC Outdoor Range\, 17908 State Road 60\, Borden\, IN\, 47106\, United States
ORGANIZER;CN="Dwayne Draggoo":MAILTO:DwayneDraggoo@yahoo.com
END:VEVENT
BEGIN:VEVENT
DTSTART;TZID=America/New_York:20260718T080000
DTEND;TZID=America/New_York:20260718T170000
DTSTAMP:20260422T085956
CREATED:20260206T164951Z
LAST-MODIFIED:20260206T164951Z
UID:203-1784361600-1784394000@sirapc.com
SUMMARY:CMP Games GSVMM (Match One) / Team Sniper (Match Two)
DESCRIPTION:
URL:https://sirapc.com/calendar/cmp-games-gsvmm-match-one-team-sniper-match-two/
LOCATION:SIRPC Outdoor Range\, 17908 State Road 60\, Borden\, IN\, 47106\, United States
ORGANIZER;CN="George Eberhardt":MAILTO:ebbie5313@gmail.com
END:VEVENT
BEGIN:VEVENT
DTSTART;TZID=America/New_York:20260722T140000
DTEND;TZID=America/New_York:20260722T200000
DTSTAMP:20260422T085956
CREATED:20260206T155429Z
LAST-MODIFIED:20260206T155429Z
UID:102-1784728800-1784750400@sirapc.com
SUMMARY:500 Yard Rifle Practice
DESCRIPTION:
URL:https://sirapc.com/calendar/500-yard-rifle-practice-16/
LOCATION:SIRPC Outdoor Range\, 17908 State Road 60\, Borden\, IN\, 47106\, United States
ORGANIZER;CN="Dwayne Draggoo":MAILTO:DwayneDraggoo@yahoo.com
END:VEVENT
BEGIN:VEVENT
DTSTART;TZID=America/New_York:20260725T080000
DTEND;TZID=America/New_York:20260725T170000
DTSTAMP:20260422T085956
CREATED:20260206T165109Z
LAST-MODIFIED:20260206T165109Z
UID:206-1784966400-1784998800@sirapc.com
SUMMARY:Pistol 2700 Match
DESCRIPTION:
URL:https://sirapc.com/calendar/pistol-2700-match-2/
LOCATION:SIRPC Outdoor Range\, 17908 State Road 60\, Borden\, IN\, 47106\, United States
END:VEVENT
BEGIN:VEVENT
DTSTART;TZID=America/New_York:20260729T123000
DTEND;TZID=America/New_York:20260729T200000
DTSTAMP:20260422T085956
CREATED:20260206T155530Z
LAST-MODIFIED:20260418T202103Z
UID:104-1785328200-1785355200@sirapc.com
SUMMARY:500 Yard Rifle Practice
DESCRIPTION:
URL:https://sirapc.com/calendar/500-yard-rifle-practice-17/
LOCATION:SIRPC Outdoor Range\, 17908 State Road 60\, Borden\, IN\, 47106\, United States
ORGANIZER;CN="Dwayne Draggoo":MAILTO:DwayneDraggoo@yahoo.com
END:VEVENT
END:VCALENDAR